Package: RadioGx Version: 2.11.0 Command: /Library/Frameworks/R.framework/Resources/bin/R CMD INSTALL RadioGx StartedAt: 2025-02-20 15:33:38 -0500 (Thu, 20 Feb 2025) EndedAt: 2025-02-20 15:34:29 -0500 (Thu, 20 Feb 2025) EllapsedTime: 51.8 seconds RetCode: 0 Status: OK