Package: RadioGx Version: 2.11.0 Command: /Library/Frameworks/R.framework/Resources/bin/R CMD build --keep-empty-dirs --no-resave-data RadioGx StartedAt: 2025-02-20 17:54:11 -0500 (Thu, 20 Feb 2025) EndedAt: 2025-02-20 17:55:10 -0500 (Thu, 20 Feb 2025) EllapsedTime: 58.4 seconds RetCode: 0 Status: OK PackageFile: RadioGx_2.11.0.tar.gz PackageFileSize: 2.778 MiB