Package: RadioGx Version: 2.11.0 Command: /home/biocbuild/R/R/bin/R CMD check --install=check:RadioGx.install-out.txt --library=/home/biocbuild/R/R/site-library --no-vignettes --timings RadioGx_2.11.0.tar.gz StartedAt: 2025-01-28 14:17:10 -0000 (Tue, 28 Jan 2025) EndedAt: 2025-01-28 14:22:29 -0000 (Tue, 28 Jan 2025) EllapsedTime: 319.5 seconds RetCode: 0 Status: OK CheckDir: RadioGx.Rcheck Warnings: 0