Package: RadioGx Version: 2.11.0 Command: rm -rf RadioGx.buildbin-libdir && mkdir RadioGx.buildbin-libdir && /Users/biocbuild/BBS/utils/build-universal.sh RadioGx_2.11.0.tar.gz /Library/Frameworks/R.framework/Resources/bin/R RadioGx.buildbin-libdir StartedAt: 2025-02-20 22:30:59 -0500 (Thu, 20 Feb 2025) EndedAt: 2025-02-20 22:31:16 -0500 (Thu, 20 Feb 2025) EllapsedTime: 16.4 seconds RetCode: 0 Status: OK PackageFile: RadioGx_2.11.0.tgz PackageFileSize: 4.219 MiB