Package: RVS Version: 1.29.0 Command: /Library/Frameworks/R.framework/Resources/bin/R CMD INSTALL RVS StartedAt: 2025-02-18 15:35:35 -0500 (Tue, 18 Feb 2025) EndedAt: 2025-02-18 15:35:50 -0500 (Tue, 18 Feb 2025) EllapsedTime: 14.2 seconds RetCode: 0 Status: OK