Package: RUVnormalize Version: 1.41.0 Command: E:\biocbuild\bbs-3.21-bioc\R\bin\R.exe CMD check --no-multiarch --install=check:RUVnormalize.install-out.txt --library=E:\biocbuild\bbs-3.21-bioc\R\library --no-vignettes --timings RUVnormalize_1.41.0.tar.gz StartedAt: 2025-02-19 04:50:13 -0500 (Wed, 19 Feb 2025) EndedAt: 2025-02-19 04:51:01 -0500 (Wed, 19 Feb 2025) EllapsedTime: 47.4 seconds RetCode: 0 Status: OK CheckDir: RUVnormalize.Rcheck Warnings: 0