Package: RUVnormalize Version: 1.41.0 Command: /home/biocbuild/bbs-3.21-bioc/R/bin/R CMD build --keep-empty-dirs --no-resave-data RUVnormalize StartedAt: 2025-02-19 19:00:02 -0500 (Wed, 19 Feb 2025) EndedAt: 2025-02-19 19:00:16 -0500 (Wed, 19 Feb 2025) EllapsedTime: 14.0 seconds RetCode: 0 Status: OK PackageFile: RUVnormalize_1.41.0.tar.gz PackageFileSize: 191.2 KiB