Package: RUVnormalize Version: 1.41.0 Command: /Library/Frameworks/R.framework/Resources/bin/R CMD INSTALL RUVnormalize StartedAt: 2025-02-18 15:01:42 -0500 (Tue, 18 Feb 2025) EndedAt: 2025-02-18 15:01:47 -0500 (Tue, 18 Feb 2025) EllapsedTime: 4.5 seconds RetCode: 0 Status: OK