Package: RUVSeq Version: 1.41.0 Command: chmod a+r RUVSeq -R && E:\biocbuild\bbs-3.21-bioc\R\bin\R.exe CMD build --keep-empty-dirs --no-resave-data RUVSeq StartedAt: 2025-02-20 21:27:09 -0500 (Thu, 20 Feb 2025) EndedAt: 2025-02-20 21:29:21 -0500 (Thu, 20 Feb 2025) EllapsedTime: 131.8 seconds RetCode: 0 Status: OK PackageFile: RUVSeq_1.41.0.tar.gz PackageFileSize: 311.5 KiB