Package: RUVSeq Version: 1.41.0 Command: /home/biocbuild/bbs-3.21-bioc/R/bin/R CMD INSTALL RUVSeq StartedAt: 2025-02-20 16:05:12 -0500 (Thu, 20 Feb 2025) EndedAt: 2025-02-20 16:05:52 -0500 (Thu, 20 Feb 2025) EllapsedTime: 40.4 seconds RetCode: 0 Status: OK