Package: RUVSeq Version: 1.41.0 Command: /home/biocbuild/bbs-3.21-bioc/R/bin/R CMD check --install=check:RUVSeq.install-out.txt --library=/home/biocbuild/bbs-3.21-bioc/R/site-library --timings RUVSeq_1.41.0.tar.gz StartedAt: 2025-02-21 01:26:35 -0500 (Fri, 21 Feb 2025) EndedAt: 2025-02-21 01:32:39 -0500 (Fri, 21 Feb 2025) EllapsedTime: 364.5 seconds RetCode: 0 Status: OK CheckDir: RUVSeq.Rcheck Warnings: 0