Package: RUVSeq Version: 1.41.0 Command: /home/biocbuild/bbs-3.21-bioc/R/bin/R CMD build --keep-empty-dirs --no-resave-data RUVSeq StartedAt: 2025-02-20 19:04:28 -0500 (Thu, 20 Feb 2025) EndedAt: 2025-02-20 19:06:06 -0500 (Thu, 20 Feb 2025) EllapsedTime: 97.3 seconds RetCode: 0 Status: OK PackageFile: RUVSeq_1.41.0.tar.gz PackageFileSize: 500.8 KiB