Package: RUVSeq Version: 1.41.0 Command: /Library/Frameworks/R.framework/Resources/bin/R CMD build --keep-empty-dirs --no-resave-data RUVSeq StartedAt: 2025-02-21 18:05:41 -0500 (Fri, 21 Feb 2025) EndedAt: 2025-02-21 18:07:25 -0500 (Fri, 21 Feb 2025) EllapsedTime: 104.0 seconds RetCode: 0 Status: OK PackageFile: RUVSeq_1.41.0.tar.gz PackageFileSize: 495.8 KiB