Package: RTopper Version: 1.53.0 Command: /home/biocbuild/bbs-3.21-bioc/R/bin/R CMD INSTALL RTopper StartedAt: 2025-02-17 15:12:55 -0500 (Mon, 17 Feb 2025) EndedAt: 2025-02-17 15:13:03 -0500 (Mon, 17 Feb 2025) EllapsedTime: 7.7 seconds RetCode: 0 Status: OK