Package: RTopper Version: 1.53.0 Command: /home/biocbuild/bbs-3.21-bioc/R/bin/R CMD check --install=check:RTopper.install-out.txt --library=/home/biocbuild/bbs-3.21-bioc/R/site-library --timings RTopper_1.53.0.tar.gz StartedAt: 2025-02-18 01:46:08 -0500 (Tue, 18 Feb 2025) EndedAt: 2025-02-18 01:48:03 -0500 (Tue, 18 Feb 2025) EllapsedTime: 115.1 seconds RetCode: 0 Status: OK CheckDir: RTopper.Rcheck Warnings: 0