Package: RTopper Version: 1.53.0 Command: /home/biocbuild/bbs-3.21-bioc/R/bin/R CMD build --keep-empty-dirs --no-resave-data RTopper StartedAt: 2025-02-17 18:55:32 -0500 (Mon, 17 Feb 2025) EndedAt: 2025-02-17 18:56:28 -0500 (Mon, 17 Feb 2025) EllapsedTime: 56.1 seconds RetCode: 0 Status: OK PackageFile: RTopper_1.53.0.tar.gz PackageFileSize: 1.349 MiB