Package: RTopper Version: 1.53.0 Command: /Library/Frameworks/R.framework/Resources/bin/R CMD INSTALL RTopper StartedAt: 2025-02-17 15:34:39 -0500 (Mon, 17 Feb 2025) EndedAt: 2025-02-17 15:34:49 -0500 (Mon, 17 Feb 2025) EllapsedTime: 10.3 seconds RetCode: 0 Status: OK