Package: RTopper Version: 1.53.0 Command: /Library/Frameworks/R.framework/Resources/bin/R CMD check --install=check:RTopper.install-out.txt --library=/Library/Frameworks/R.framework/Resources/library --no-vignettes --timings RTopper_1.53.0.tar.gz StartedAt: 2025-02-17 21:08:28 -0500 (Mon, 17 Feb 2025) EndedAt: 2025-02-17 21:08:55 -0500 (Mon, 17 Feb 2025) EllapsedTime: 27.3 seconds RetCode: 0 Status: OK CheckDir: RTopper.Rcheck Warnings: 0