Package: RTopper Version: 1.53.0 Command: rm -rf RTopper.buildbin-libdir && mkdir RTopper.buildbin-libdir && /Users/biocbuild/BBS/utils/build-universal.sh RTopper_1.53.0.tar.gz /Library/Frameworks/R.framework/Resources/bin/R RTopper.buildbin-libdir StartedAt: 2025-02-17 22:31:58 -0500 (Mon, 17 Feb 2025) EndedAt: 2025-02-17 22:32:02 -0500 (Mon, 17 Feb 2025) EllapsedTime: 4.1 seconds RetCode: 0 Status: OK PackageFile: RTopper_1.53.0.tgz PackageFileSize: 1.376 MiB