Package: RTNsurvival Version: 1.31.0 Command: chmod a+r RTNsurvival -R && E:\biocbuild\bbs-3.21-bioc\R\bin\R.exe CMD build --keep-empty-dirs --no-resave-data RTNsurvival StartedAt: 2025-02-20 21:26:15 -0500 (Thu, 20 Feb 2025) EndedAt: 2025-02-20 21:28:15 -0500 (Thu, 20 Feb 2025) EllapsedTime: 119.9 seconds RetCode: 0 Status: OK PackageFile: RTNsurvival_1.31.0.tar.gz PackageFileSize: 733 KiB