Package: RTNduals Version: 1.31.0 Command: rm -rf RTNduals.buildbin-libdir && mkdir RTNduals.buildbin-libdir && E:\biocbuild\bbs-3.21-bioc\R\bin\R.exe CMD INSTALL --build --library=RTNduals.buildbin-libdir RTNduals_1.31.0.tar.gz StartedAt: 2025-02-21 08:58:39 -0500 (Fri, 21 Feb 2025) EndedAt: 2025-02-21 08:59:24 -0500 (Fri, 21 Feb 2025) EllapsedTime: 45.1 seconds RetCode: 0 Status: OK PackageFile: RTNduals_1.31.0.zip PackageFileSize: 743.4 KiB