Package: RTNduals Version: 1.31.0 Command: /home/biocbuild/bbs-3.21-bioc/R/bin/R CMD check --install=check:RTNduals.install-out.txt --library=/home/biocbuild/bbs-3.21-bioc/R/site-library --timings RTNduals_1.31.0.tar.gz StartedAt: 2025-02-21 01:25:12 -0500 (Fri, 21 Feb 2025) EndedAt: 2025-02-21 01:31:54 -0500 (Fri, 21 Feb 2025) EllapsedTime: 401.6 seconds RetCode: 0 Status: OK CheckDir: RTNduals.Rcheck Warnings: 0