Package: RTNduals Version: 1.31.0 Command: /Library/Frameworks/R.framework/Resources/bin/R CMD INSTALL RTNduals StartedAt: 2025-02-21 15:41:47 -0500 (Fri, 21 Feb 2025) EndedAt: 2025-02-21 15:42:26 -0500 (Fri, 21 Feb 2025) EllapsedTime: 38.7 seconds RetCode: 0 Status: OK