Package: RTNduals Version: 1.31.0 Command: /Library/Frameworks/R.framework/Resources/bin/R CMD check --install=check:RTNduals.install-out.txt --library=/Library/Frameworks/R.framework/Resources/library --no-vignettes --timings RTNduals_1.31.0.tar.gz StartedAt: 2025-02-20 21:08:54 -0500 (Thu, 20 Feb 2025) EndedAt: 2025-02-20 21:11:27 -0500 (Thu, 20 Feb 2025) EllapsedTime: 152.8 seconds RetCode: 0 Status: OK CheckDir: RTNduals.Rcheck Warnings: 0