Package: RTN Version: 2.31.0 Command: E:\biocbuild\bbs-3.21-bioc\R\bin\R.exe CMD INSTALL RTN StartedAt: 2025-02-20 16:51:54 -0500 (Thu, 20 Feb 2025) EndedAt: 2025-02-20 16:52:56 -0500 (Thu, 20 Feb 2025) EllapsedTime: 62.7 seconds RetCode: 0 Status: OK