Package: RTN Version: 2.31.0 Command: chmod a+r RTN -R && E:\biocbuild\bbs-3.21-bioc\R\bin\R.exe CMD build --keep-empty-dirs --no-resave-data RTN StartedAt: 2025-02-20 21:26:04 -0500 (Thu, 20 Feb 2025) EndedAt: 2025-02-20 21:29:43 -0500 (Thu, 20 Feb 2025) EllapsedTime: 219.0 seconds RetCode: 0 Status: OK PackageFile: RTN_2.31.0.tar.gz PackageFileSize: 10.26 MiB