Package: RTN Version: 2.31.0 Command: /home/biocbuild/bbs-3.21-bioc/R/bin/R CMD INSTALL RTN StartedAt: 2025-02-20 15:26:51 -0500 (Thu, 20 Feb 2025) EndedAt: 2025-02-20 15:27:27 -0500 (Thu, 20 Feb 2025) EllapsedTime: 36.9 seconds RetCode: 0 Status: OK