Package: RTN Version: 2.31.0 Command: /home/biocbuild/bbs-3.21-bioc/R/bin/R CMD check --install=check:RTN.install-out.txt --library=/home/biocbuild/bbs-3.21-bioc/R/site-library --timings RTN_2.31.0.tar.gz StartedAt: 2025-02-21 01:25:10 -0500 (Fri, 21 Feb 2025) EndedAt: 2025-02-21 01:31:09 -0500 (Fri, 21 Feb 2025) EllapsedTime: 358.6 seconds RetCode: 0 Status: OK CheckDir: RTN.Rcheck Warnings: 0