Package: RTN Version: 2.31.0 Command: /home/biocbuild/bbs-3.21-bioc/R/bin/R CMD build --keep-empty-dirs --no-resave-data RTN StartedAt: 2025-02-20 19:03:18 -0500 (Thu, 20 Feb 2025) EndedAt: 2025-02-20 19:05:42 -0500 (Thu, 20 Feb 2025) EllapsedTime: 144.5 seconds RetCode: 0 Status: OK PackageFile: RTN_2.31.0.tar.gz PackageFileSize: 10.26 MiB