Package: RTCGAToolbox Version: 2.37.2 Command: E:\biocbuild\bbs-3.21-bioc\R\bin\R.exe CMD INSTALL RTCGAToolbox StartedAt: 2025-02-20 16:22:34 -0500 (Thu, 20 Feb 2025) EndedAt: 2025-02-20 16:23:17 -0500 (Thu, 20 Feb 2025) EllapsedTime: 43.2 seconds RetCode: 0 Status: OK