Package: RTCGAToolbox Version: 2.37.2 Command: chmod a+r RTCGAToolbox -R && E:\biocbuild\bbs-3.21-bioc\R\bin\R.exe CMD build --keep-empty-dirs --no-resave-data RTCGAToolbox StartedAt: 2025-02-20 21:25:40 -0500 (Thu, 20 Feb 2025) EndedAt: 2025-02-20 21:27:44 -0500 (Thu, 20 Feb 2025) EllapsedTime: 124.1 seconds RetCode: 0 Status: OK PackageFile: RTCGAToolbox_2.37.2.tar.gz PackageFileSize: 2.33 MiB