Package: RTCGAToolbox Version: 2.37.2 Command: rm -rf RTCGAToolbox.buildbin-libdir && mkdir RTCGAToolbox.buildbin-libdir && E:\biocbuild\bbs-3.21-bioc\R\bin\R.exe CMD INSTALL --build --library=RTCGAToolbox.buildbin-libdir RTCGAToolbox_2.37.2.tar.gz StartedAt: 2025-02-20 08:39:03 -0500 (Thu, 20 Feb 2025) EndedAt: 2025-02-20 08:40:23 -0500 (Thu, 20 Feb 2025) EllapsedTime: 80.0 seconds RetCode: 0 Status: OK PackageFile: RTCGAToolbox_2.37.2.zip PackageFileSize: 633.1 KiB