Package: RTCGAToolbox Version: 2.37.2 Command: /home/biocbuild/bbs-3.21-bioc/R/bin/R CMD check --install=check:RTCGAToolbox.install-out.txt --library=/home/biocbuild/bbs-3.21-bioc/R/site-library --timings RTCGAToolbox_2.37.2.tar.gz StartedAt: 2025-02-21 01:25:06 -0500 (Fri, 21 Feb 2025) EndedAt: 2025-02-21 01:28:41 -0500 (Fri, 21 Feb 2025) EllapsedTime: 214.3 seconds RetCode: 0 Status: OK CheckDir: RTCGAToolbox.Rcheck Warnings: 0