Package: RTCGAToolbox Version: 2.38.0 Command: /Library/Frameworks/R.framework/Resources/bin/R CMD INSTALL RTCGAToolbox StartedAt: 2025-10-13 16:16:37 -0400 (Mon, 13 Oct 2025) EndedAt: 2025-10-13 16:17:32 -0400 (Mon, 13 Oct 2025) EllapsedTime: 55.0 seconds RetCode: 0 Status: OK