Package: RTCGAToolbox Version: 2.37.2 Command: /home/biocbuild/R/R/bin/R CMD INSTALL RTCGAToolbox StartedAt: 2025-01-29 19:52:40 -0000 (Wed, 29 Jan 2025) EndedAt: 2025-01-29 19:53:15 -0000 (Wed, 29 Jan 2025) EllapsedTime: 34.8 seconds RetCode: 0 Status: OK