Package: RTCGAToolbox Version: 2.37.2 Command: /home/biocbuild/R/R/bin/R CMD check --install=check:RTCGAToolbox.install-out.txt --library=/home/biocbuild/R/R/site-library --no-vignettes --timings RTCGAToolbox_2.37.2.tar.gz StartedAt: 2025-01-28 14:47:29 -0000 (Tue, 28 Jan 2025) EndedAt: 2025-01-28 14:53:47 -0000 (Tue, 28 Jan 2025) EllapsedTime: 377.6 seconds RetCode: 0 Status: OK CheckDir: RTCGAToolbox.Rcheck Warnings: 0