Package: RTCGA Version: 1.37.0 Command: /home/biocbuild/bbs-3.21-bioc/R/bin/R CMD INSTALL RTCGA StartedAt: 2025-02-19 15:11:15 -0500 (Wed, 19 Feb 2025) EndedAt: 2025-02-19 15:11:29 -0500 (Wed, 19 Feb 2025) EllapsedTime: 14.7 seconds RetCode: 0 Status: OK