Package: RTCGA Version: 1.37.0 Command: /home/biocbuild/bbs-3.21-bioc/R/bin/R CMD build --keep-empty-dirs --no-resave-data RTCGA StartedAt: 2025-02-19 18:59:19 -0500 (Wed, 19 Feb 2025) EndedAt: 2025-02-19 18:59:32 -0500 (Wed, 19 Feb 2025) EllapsedTime: 13.0 seconds RetCode: 0 Status: OK PackageFile: RTCGA_1.37.0.tar.gz PackageFileSize: 2.437 MiB