Package: RTCA Version: 1.59.0 Command: /Library/Frameworks/R.framework/Resources/bin/R CMD check --install=check:RTCA.install-out.txt --library=/Library/Frameworks/R.framework/Resources/library --no-vignettes --timings RTCA_1.59.0.tar.gz StartedAt: 2025-02-21 21:46:02 -0500 (Fri, 21 Feb 2025) EndedAt: 2025-02-21 21:46:18 -0500 (Fri, 21 Feb 2025) EllapsedTime: 16.2 seconds RetCode: 0 Status: WARNINGS CheckDir: RTCA.Rcheck Warnings: 1