Package: RTCA Version: 1.59.0 Command: /Library/Frameworks/R.framework/Resources/bin/R CMD build --keep-empty-dirs --no-resave-data RTCA StartedAt: 2025-02-21 17:27:05 -0500 (Fri, 21 Feb 2025) EndedAt: 2025-02-21 17:27:12 -0500 (Fri, 21 Feb 2025) EllapsedTime: 7.1 seconds RetCode: 0 Status: OK PackageFile: RTCA_1.59.0.tar.gz PackageFileSize: 335.4 KiB