Package: RTCA Version: 1.59.0 Command: rm -rf RTCA.buildbin-libdir && mkdir RTCA.buildbin-libdir && /Users/biocbuild/BBS/utils/build-universal.sh RTCA_1.59.0.tar.gz /Library/Frameworks/R.framework/Resources/bin/R RTCA.buildbin-libdir StartedAt: 2025-02-21 23:10:46 -0500 (Fri, 21 Feb 2025) EndedAt: 2025-02-21 23:10:49 -0500 (Fri, 21 Feb 2025) EllapsedTime: 3.1 seconds RetCode: 0 Status: OK PackageFile: RTCA_1.59.0.tgz PackageFileSize: 595.2 KiB