Package: RSeqAn Version: 1.27.0 Command: rm -rf RSeqAn.buildbin-libdir && mkdir RSeqAn.buildbin-libdir && E:\biocbuild\bbs-3.21-bioc\R\bin\R.exe CMD INSTALL --build --library=RSeqAn.buildbin-libdir RSeqAn_1.27.0.tar.gz StartedAt: 2025-02-19 08:17:48 -0500 (Wed, 19 Feb 2025) EndedAt: 2025-02-19 08:18:44 -0500 (Wed, 19 Feb 2025) EllapsedTime: 55.7 seconds RetCode: 0 Status: OK PackageFile: RSeqAn_1.27.0.zip PackageFileSize: 2.507 MiB