Package: RSeqAn Version: 1.27.0 Command: rm -rf RSeqAn.buildbin-libdir && mkdir RSeqAn.buildbin-libdir && /Users/biocbuild/BBS/utils/build-universal.sh RSeqAn_1.27.0.tar.gz /Library/Frameworks/R.framework/Resources/bin/R RSeqAn.buildbin-libdir StartedAt: 2025-02-18 22:36:03 -0500 (Tue, 18 Feb 2025) EndedAt: 2025-02-18 22:36:08 -0500 (Tue, 18 Feb 2025) EllapsedTime: 5.1 seconds RetCode: 0 Status: OK PackageFile: RSeqAn_1.27.0.tgz PackageFileSize: 1.713 MiB