Package: RSVSim Version: 1.47.0 Command: E:\biocbuild\bbs-3.21-bioc\R\bin\R.exe CMD INSTALL RSVSim StartedAt: 2025-02-20 16:34:49 -0500 (Thu, 20 Feb 2025) EndedAt: 2025-02-20 16:35:25 -0500 (Thu, 20 Feb 2025) EllapsedTime: 35.9 seconds RetCode: 0 Status: OK