Package: RSVSim Version: 1.47.0 Command: chmod a+r RSVSim -R && E:\biocbuild\bbs-3.21-bioc\R\bin\R.exe CMD build --keep-empty-dirs --no-resave-data RSVSim StartedAt: 2025-02-20 21:25:27 -0500 (Thu, 20 Feb 2025) EndedAt: 2025-02-20 21:26:38 -0500 (Thu, 20 Feb 2025) EllapsedTime: 71.7 seconds RetCode: 0 Status: OK PackageFile: RSVSim_1.47.0.tar.gz PackageFileSize: 505.9 KiB