Package: RProtoBufLib Version: 2.19.0 Command: chmod a+r RProtoBufLib -R && E:\biocbuild\bbs-3.21-bioc\R\bin\R.exe CMD build --keep-empty-dirs --no-resave-data RProtoBufLib StartedAt: 2025-02-20 21:23:41 -0500 (Thu, 20 Feb 2025) EndedAt: 2025-02-20 21:24:49 -0500 (Thu, 20 Feb 2025) EllapsedTime: 68.4 seconds RetCode: 0 Status: OK PackageFile: RProtoBufLib_2.19.0.tar.gz PackageFileSize: 21.08 MiB