Package: RProtoBufLib Version: 2.19.0 Command: rm -rf RProtoBufLib.buildbin-libdir && mkdir RProtoBufLib.buildbin-libdir && E:\biocbuild\bbs-3.21-bioc\R\bin\R.exe CMD INSTALL --build --library=RProtoBufLib.buildbin-libdir RProtoBufLib_2.19.0.tar.gz StartedAt: 2025-02-21 08:57:47 -0500 (Fri, 21 Feb 2025) EndedAt: 2025-02-21 08:59:11 -0500 (Fri, 21 Feb 2025) EllapsedTime: 83.6 seconds RetCode: 0 Status: OK PackageFile: RProtoBufLib_2.19.0.zip PackageFileSize: 2.301 MiB