Package: RProtoBufLib Version: 2.19.0 Command: /home/biocbuild/bbs-3.21-bioc/R/bin/R CMD INSTALL RProtoBufLib StartedAt: 2025-02-20 15:03:15 -0500 (Thu, 20 Feb 2025) EndedAt: 2025-02-20 15:07:47 -0500 (Thu, 20 Feb 2025) EllapsedTime: 272.3 seconds RetCode: 0 Status: OK