Package: RProtoBufLib Version: 2.19.0 Command: /home/biocbuild/bbs-3.21-bioc/R/bin/R CMD build --keep-empty-dirs --no-resave-data RProtoBufLib StartedAt: 2025-02-20 19:02:20 -0500 (Thu, 20 Feb 2025) EndedAt: 2025-02-20 19:07:12 -0500 (Thu, 20 Feb 2025) EllapsedTime: 291.8 seconds RetCode: 0 Status: OK PackageFile: RProtoBufLib_2.19.0.tar.gz PackageFileSize: 2.84 MiB