Package: RProtoBufLib Version: 2.19.0 Command: /home/biocbuild/R/R/bin/R CMD check --install=check:RProtoBufLib.install-out.txt --library=/home/biocbuild/R/R/site-library --no-vignettes --timings RProtoBufLib_2.19.0.tar.gz StartedAt: 2025-01-28 14:43:20 -0000 (Tue, 28 Jan 2025) EndedAt: 2025-01-28 14:43:50 -0000 (Tue, 28 Jan 2025) EllapsedTime: 30.0 seconds RetCode: 0 Status: WARNINGS CheckDir: RProtoBufLib.Rcheck Warnings: 2